Workbook

Sheet 令和８年度田川地区中学１年生大会
C1: （申込書様式）
G2: ２０２３年 月 日
E4: 大 会 参 加 申 込 書
B6: 大 会 名： | E6: 令和８年度田川地区中学１年生大会
B7: 種 目： | E7: 男子 女子 (種目) EXP SD (どちらかを○で囲む)
B8: 学校名正式名称記載)：
B9: プログラム掲載略式名称(3文字）： | H9: 例：鶴岡一 例：三 川
B10: 申 込 責 任 者： | G10: TEL：
D12: 顧問・保護者・外部指導者氏名 | F12: 日本ソフトテニス連盟会員登録番号
B13: 引率 | F13: JSTA
F14: JSTA
F15: JSTA
D16: 緊急時連絡先(携帯電話番号)
B18: 外部指導者 | D18: 氏名 | E18: 会員登録番号 | G18: 審判等級 | H18: 備考
E19: JSTA
E20: JSTA
E21: JSTA
E22: JSTA
E23: JSTA
E24: JSTA
B26: 順位 | D26: 姓名 (姓と名の間は全角スペースで区切る) | E26: 学年 (半角でお願いします) | F26: 日本ソフトテニス連盟 会員登録番号 | G26: Jr審判 所持○印 | H26: 地区総体戦績 (1・2・3・8・16) 形式で記載
B28: 1 | C28: A
C29: B
B30: 2 | C30: A
C31: B
B32: 3 | C32: A
C33: B
B34: 4 | C34: A
C35: B
B36: 5 | C36: A
C37: B
B38: 6 | C38: A
C39: B
B40: 7 | C40: A
C41: B
B42: 8 | C42: A
C43: B
B44: 9 | C44: A
C45: B
B46: 10 | C46: A
C47: B
C49: ※組合せ資料とするため、夏季大会個人ベスト16以上の戦績がある選手は 必ず戦績を記載すること。

Sheet 組合せ用変換
A1: 学校 申込順 | B1: 選手A 姓&全角スペース&名 | C1: 学年 | D1: 選手B 姓&全角スペース&名 | E1: 学年
A2: =令和８年度田川地区中学１年生大会!B28 -> 1 | B2: =令和８年度田川地区中学１年生大会!$D$28 -> 0 | C2: =令和８年度田川地区中学１年生大会!$E$28 -> 0 | D2: =令和８年度田川地区中学１年生大会!$D$29 -> 0 | E2: =令和８年度田川地区中学１年生大会!$E$29 -> 0
A3: =令和８年度田川地区中学１年生大会!B30 -> 2 | B3: =令和８年度田川地区中学１年生大会!$D$30 -> 0 | C3: =令和８年度田川地区中学１年生大会!$E$30 -> 0 | D3: =令和８年度田川地区中学１年生大会!$D$31 -> 0 | E3: =令和８年度田川地区中学１年生大会!$E$31 -> 0
A4: =令和８年度田川地区中学１年生大会!B32 -> 3 | B4: =令和８年度田川地区中学１年生大会!$D$32 -> 0 | C4: =令和８年度田川地区中学１年生大会!$E$32 -> 0 | D4: =令和８年度田川地区中学１年生大会!$D$33 -> 0 | E4: =令和８年度田川地区中学１年生大会!$E$33 -> 0
A5: =令和８年度田川地区中学１年生大会!B34 -> 4 | B5: =令和８年度田川地区中学１年生大会!$D$34 -> 0 | C5: =令和８年度田川地区中学１年生大会!$E$34 -> 0 | D5: =令和８年度田川地区中学１年生大会!$D$35 -> 0 | E5: =令和８年度田川地区中学１年生大会!$E$35 -> 0
A6: =令和８年度田川地区中学１年生大会!B36 -> 5 | B6: =令和８年度田川地区中学１年生大会!$D$36 -> 0 | C6: =令和８年度田川地区中学１年生大会!$E$36 -> 0 | D6: =令和８年度田川地区中学１年生大会!$D$37 -> 0 | E6: =令和８年度田川地区中学１年生大会!$E$37 -> 0
A7: =令和８年度田川地区中学１年生大会!B38 -> 6 | B7: =令和８年度田川地区中学１年生大会!$D$38 -> 0 | C7: =令和８年度田川地区中学１年生大会!$E$38 -> 0 | D7: =令和８年度田川地区中学１年生大会!$D$39 -> 0 | E7: =令和８年度田川地区中学１年生大会!$E$39 -> 0
A8: =令和８年度田川地区中学１年生大会!B40 -> 7 | B8: =令和８年度田川地区中学１年生大会!$D$40 -> 0 | C8: =令和８年度田川地区中学１年生大会!$E$40 -> 0 | D8: =令和８年度田川地区中学１年生大会!$D$41 -> 0 | E8: =令和８年度田川地区中学１年生大会!$E$41 -> 0
A9: =令和８年度田川地区中学１年生大会!B42 -> 8 | B9: =令和８年度田川地区中学１年生大会!$D$42 -> 0 | C9: =令和８年度田川地区中学１年生大会!$E$42 -> 0 | D9: =令和８年度田川地区中学１年生大会!$D$43 -> 0 | E9: =令和８年度田川地区中学１年生大会!$E$43 -> 0
A10: =令和８年度田川地区中学１年生大会!B44 -> 9 | B10: =令和８年度田川地区中学１年生大会!$D$44 -> 0 | C10: =令和８年度田川地区中学１年生大会!$E$44 -> 0 | D10: =令和８年度田川地区中学１年生大会!$D$45 -> 0 | E10: =令和８年度田川地区中学１年生大会!$E$45 -> 0
A11: =令和８年度田川地区中学１年生大会!B46 -> 10 | B11: =令和８年度田川地区中学１年生大会!$D$46 -> 0 | C11: =令和８年度田川地区中学１年生大会!$E$46 -> 0 | D11: =令和８年度田川地区中学１年生大会!$D$47 -> 0 | E11: =令和８年度田川地区中学１年生大会!$E$47 -> 0
